0.2500000000
0.0000000000
0.0000000000
-0.2500000000
434527.1250000000
343277.6250000000
