0.2500000000
0.0000000000
0.0000000000
-0.2500000000
434617.6250000000
345554.1250000000
