0.2500000000
0.0000000000
0.0000000000
-0.2500000000
431165.6250000000
343411.6250000000
