0.2500000000
0.0000000000
0.0000000000
-0.2500000000
431256.6250000000
345687.8750000000
