0.2500000000
0.0000000000
0.0000000000
-0.2500000000
427804.3750000000
343545.8750000000
