0.2500000000
0.0000000000
0.0000000000
-0.2500000000
427895.3750000000
345822.3750000000
