0.2500000000
0.0000000000
0.0000000000
-0.2500000000
424442.8750000000
343680.8750000000
