0.2500000000
0.0000000000
0.0000000000
-0.2500000000
424534.3750000000
345957.1250000000
