0.2500000000
0.0000000000
0.0000000000
-0.2500000000
421081.3750000000
343816.3750000000
