0.2500000000
0.0000000000
0.0000000000
-0.2500000000
421173.3750000000
346092.6250000000
