0.2500000000
0.0000000000
0.0000000000
-0.2500000000
434708.1250000000
347830.3750000000
