0.2500000000
0.0000000000
0.0000000000
-0.2500000000
434798.6250000000
350106.8750000000
