0.2500000000
0.0000000000
0.0000000000
-0.2500000000
431347.3750000000
347964.3750000000
