0.2500000000
0.0000000000
0.0000000000
-0.2500000000
431438.3750000000
350240.6250000000
