0.2500000000
0.0000000000
0.0000000000
-0.2500000000
427986.6250000000
348098.6250000000
