0.2500000000
0.0000000000
0.0000000000
-0.2500000000
428077.8750000000
350375.1250000000
