0.2500000000
0.0000000000
0.0000000000
-0.2500000000
424625.8750000000
348233.6250000000
