0.2500000000
0.0000000000
0.0000000000
-0.2500000000
424717.3750000000
350509.8750000000
