0.2500000000
0.0000000000
0.0000000000
-0.2500000000
421265.1250000000
348368.8750000000
