0.2500000000
0.0000000000
0.0000000000
-0.2500000000
421357.1250000000
350645.3750000000
