0.2500000000
0.0000000000
0.0000000000
-0.2500000000
434979.6250000000
354659.6250000000
