0.2500000000
0.0000000000
0.0000000000
-0.2500000000
431529.1250000000
352517.1250000000
