0.2500000000
0.0000000000
0.0000000000
-0.2500000000
431619.8750000000
354793.3750000000
