0.2500000000
0.0000000000
0.0000000000
-0.2500000000
428169.1250000000
352651.3750000000
