0.2500000000
0.0000000000
0.0000000000
-0.2500000000
428260.1250000000
354927.6250000000
