0.2500000000
0.0000000000
0.0000000000
-0.2500000000
424808.8750000000
352786.1250000000
