0.2500000000
0.0000000000
0.0000000000
-0.2500000000
424900.6250000000
355062.6250000000
