0.2500000000
0.0000000000
0.0000000000
-0.2500000000
421448.8750000000
352921.6250000000
