0.2500000000
0.0000000000
0.0000000000
-0.2500000000
421540.8750000000
355197.8750000000
