0.2500000000
0.0000000000
0.0000000000
-0.2500000000
435070.1250000000
356935.8750000000
