0.2500000000
0.0000000000
0.0000000000
-0.2500000000
435160.6250000000
359212.3750000000
