0.2500000000
0.0000000000
0.0000000000
-0.2500000000
431710.8750000000
357069.8750000000
