0.2500000000
0.0000000000
0.0000000000
-0.2500000000
431801.6250000000
359346.1250000000
