0.2500000000
0.0000000000
0.0000000000
-0.2500000000
428351.3750000000
357204.1250000000
