0.2500000000
0.0000000000
0.0000000000
-0.2500000000
428442.6250000000
359480.3750000000
