0.2500000000
0.0000000000
0.0000000000
-0.2500000000
424992.1250000000
357338.8750000000
