0.2500000000
0.0000000000
0.0000000000
-0.2500000000
425083.6250000000
359615.1250000000
