0.2500000000
0.0000000000
0.0000000000
-0.2500000000
421632.6250000000
357474.1250000000
