0.2500000000
0.0000000000
0.0000000000
-0.2500000000
421724.6250000000
359750.6250000000
