0.2500000000
0.0000000000
0.0000000000
-0.2500000000
417535.6250000000
339399.6250000000
