0.2500000000
0.0000000000
0.0000000000
-0.2500000000
417627.6250000000
341675.8750000000
