0.2500000000
0.0000000000
0.0000000000
-0.2500000000
414173.3750000000
339536.1250000000
