0.2500000000
0.0000000000
0.0000000000
-0.2500000000
414266.1250000000
341812.3750000000
