0.2500000000
0.0000000000
0.0000000000
-0.2500000000
417719.8750000000
343952.1250000000
