0.2500000000
0.0000000000
0.0000000000
-0.2500000000
417812.1250000000
346228.6250000000
