0.2500000000
0.0000000000
0.0000000000
-0.2500000000
414358.6250000000
344088.6250000000
