0.2500000000
0.0000000000
0.0000000000
-0.2500000000
414451.1250000000
346364.8750000000
