0.2500000000
0.0000000000
0.0000000000
-0.2500000000
417904.3750000000
348504.8750000000
