0.2500000000
0.0000000000
0.0000000000
-0.2500000000
417996.6250000000
350781.1250000000
