0.2500000000
0.0000000000
0.0000000000
-0.2500000000
414543.8750000000
348641.3750000000
